BEGIN:VCALENDAR
METHOD:PUBLISH
PRODID:-//Weblication CMS
VERSION:2.0
BEGIN:VEVENT
SUMMARY:&quot;Auguste spielt Golf&quot; - Kabarett
DTSTART:20200312T183000
DTEND:20200313T000000
DESCRIPTION:
LOCATION:Klingenburg
UID:https://golf-klingenburg.de/golf-club-klingenburg/veranstaltungen/termine/quot-Auguste-spielt-Golf-quot-Kabarett.php
URL:https://golf-klingenburg.de/golf-club-klingenburg/veranstaltungen/termine/quot-Auguste-spielt-Golf-quot-Kabarett.php
END:VEVENT
END:VCALENDAR