BEGIN:VCALENDAR
METHOD:PUBLISH
PRODID:-//Weblication CMS
VERSION:2.0
BEGIN:VEVENT
SUMMARY:XIX. PROMA Golf Cup - ABGESAGT
DTSTART;VALUE=DATE:20200704
DTEND;VALUE=DATE:20200705
DESCRIPTION:
LOCATION:Klingenburg
UID:https://golf-klingenburg.de/golf-club-klingenburg/veranstaltungen/termine/XIX-PROMA-Golf-Cup.php
URL:https://golf-klingenburg.de/golf-club-klingenburg/veranstaltungen/termine/XIX-PROMA-Golf-Cup.php
END:VEVENT
END:VCALENDAR