BEGIN:VCALENDAR
METHOD:PUBLISH
PRODID:-//Weblication CMS
VERSION:2.0
BEGIN:VEVENT
SUMMARY:Vierer-Clubmeisterschaft
DTSTART;VALUE=DATE:20200926
DTEND;VALUE=DATE:20200928
DESCRIPTION:Clubmeisterschaft im 2er-Team 
LOCATION:Klingenburg
UID:https://golf-klingenburg.de/golf-club-klingenburg/veranstaltungen/termine/Vierer-Clubmeisterschaft.php
URL:https://golf-klingenburg.de/golf-club-klingenburg/veranstaltungen/termine/Vierer-Clubmeisterschaft.php
END:VEVENT
END:VCALENDAR