BEGIN:VCALENDAR
METHOD:PUBLISH
PRODID:-//Weblication CMS
VERSION:2.0
BEGIN:VEVENT
SUMMARY:Summerscramble - Meet &amp; Golf
DTSTART;VALUE=DATE:20200823
DTEND;VALUE=DATE:20200824
DESCRIPTION:4er-Scramble mit unseren Neueinsteigern und Neumitgliedern
LOCATION:Klingenburg
UID:https://golf-klingenburg.de/golf-club-klingenburg/veranstaltungen/termine/Summerscramble-Meet-amp-Golf.php
URL:https://golf-klingenburg.de/golf-club-klingenburg/veranstaltungen/termine/Summerscramble-Meet-amp-Golf.php
END:VEVENT
END:VCALENDAR