BEGIN:VCALENDAR
METHOD:PUBLISH
PRODID:-//Weblication CMS
VERSION:2.0
BEGIN:VEVENT
SUMMARY:PROMA-Scramble
DTSTART;VALUE=DATE:20200906
DTEND;VALUE=DATE:20200907
DESCRIPTION:4er-Scramble
LOCATION:Klingenburg
UID:https://golf-klingenburg.de/golf-club-klingenburg/veranstaltungen/termine/PROMA-Scramble.php
URL:https://golf-klingenburg.de/golf-club-klingenburg/veranstaltungen/termine/PROMA-Scramble.php
END:VEVENT
END:VCALENDAR