BEGIN:VCALENDAR
METHOD:PUBLISH
PRODID:-//Weblication CMS
VERSION:2.0
BEGIN:VEVENT
SUMMARY:Mitgliederversammlung 2020 --- ABGESAGT
DTSTART:20200406T200000
DTEND:20200407T000000
DESCRIPTION:Aufgrund der Corona-Maßnahmen wird die Mitgliederversammlung auf unbestimmte Zeit verschoben! Zeitgleich entfällt auch die Gesellschafterversammlung der Country KG
LOCATION:Klingenburg
UID:https://golf-klingenburg.de/golf-club-klingenburg/veranstaltungen/termine/Mitgliederversammlung-2020.php
URL:https://golf-klingenburg.de/golf-club-klingenburg/veranstaltungen/termine/Mitgliederversammlung-2020.php
END:VEVENT
END:VCALENDAR