BEGIN:VCALENDAR
METHOD:PUBLISH
PRODID:-//Weblication CMS
VERSION:2.0
BEGIN:VEVENT
SUMMARY:Mitgliederversammlung 2020
DTSTART;VALUE=DATE:20200824
DTEND;VALUE=DATE:20200825
DESCRIPTION:Nachholtermin für den im April 2020 ausgefallenen Termin Teilnahme nur nach vorheriger Anmeldung möglich
LOCATION:Klingenburg
UID:https://golf-klingenburg.de/golf-club-klingenburg/veranstaltungen/termine/Mitgliederversammlung-2020-1.php
URL:https://golf-klingenburg.de/golf-club-klingenburg/veranstaltungen/termine/Mitgliederversammlung-2020-1.php
END:VEVENT
END:VCALENDAR