BEGIN:VCALENDAR
METHOD:PUBLISH
PRODID:-//Weblication CMS
VERSION:2.0
BEGIN:VEVENT
SUMMARY:Martinsgans
DTSTART;VALUE=DATE:20201025
DTEND;VALUE=DATE:20201026
DESCRIPTION:Florida-Scramble, Cross Country
LOCATION:Klingenburg
UID:https://golf-klingenburg.de/golf-club-klingenburg/veranstaltungen/termine/Martinsgans.php
URL:https://golf-klingenburg.de/golf-club-klingenburg/veranstaltungen/termine/Martinsgans.php
END:VEVENT
END:VCALENDAR