BEGIN:VCALENDAR
METHOD:PUBLISH
PRODID:-//Weblication CMS
VERSION:2.0
BEGIN:VEVENT
SUMMARY:ISC - ABGESAGT
DTSTART;VALUE=DATE:20200628
DTEND;VALUE=DATE:20200630
DESCRIPTION:Internationale Scramble-Championship
LOCATION:Klingenburg
UID:https://golf-klingenburg.de/golf-club-klingenburg/veranstaltungen/termine/ISC-ABGESAGT.php
URL:https://golf-klingenburg.de/golf-club-klingenburg/veranstaltungen/termine/ISC-ABGESAGT.php
END:VEVENT
END:VCALENDAR