BEGIN:VCALENDAR
METHOD:PUBLISH
PRODID:-//Weblication CMS
VERSION:2.0
BEGIN:VEVENT
SUMMARY:EGM Demo Day --- ABGESAGT
DTSTART:20200328T100000
DTEND:20200328T160000
DESCRIPTION:
LOCATION:Klingenburg
UID:https://golf-klingenburg.de/golf-club-klingenburg/veranstaltungen/termine/EGM-Demo-Day.php
URL:https://golf-klingenburg.de/golf-club-klingenburg/veranstaltungen/termine/EGM-Demo-Day.php
END:VEVENT
END:VCALENDAR