BEGIN:VCALENDAR
METHOD:PUBLISH
PRODID:-//Weblication CMS
VERSION:2.0
BEGIN:VEVENT
SUMMARY:Clubmeisterschaften 2020
DTSTART;VALUE=DATE:20200710
DTEND;VALUE=DATE:20200713
DESCRIPTION:Clubmeisterschaften der Herren / Damen / Senioren / Jugend
LOCATION:Klingenburg
UID:https://golf-klingenburg.de/golf-club-klingenburg/veranstaltungen/termine/Clubmeisterschaften-2020.php
URL:https://golf-klingenburg.de/golf-club-klingenburg/veranstaltungen/termine/Clubmeisterschaften-2020.php
END:VEVENT
END:VCALENDAR