BEGIN:VCALENDAR
METHOD:PUBLISH
PRODID:-//Weblication CMS
VERSION:2.0
BEGIN:VEVENT
SUMMARY:Bayerische Meisterschaft AK 30 Damen / Herren
DTSTART;VALUE=DATE:20200919
DTEND;VALUE=DATE:20200921
DESCRIPTION:2-tägiges Verbandsturnier des BGV
LOCATION:Klingenburg
UID:https://golf-klingenburg.de/golf-club-klingenburg/veranstaltungen/termine/Bayerische-Meisterschaft-AK-30-Damen-Herren.php
URL:https://golf-klingenburg.de/golf-club-klingenburg/veranstaltungen/termine/Bayerische-Meisterschaft-AK-30-Damen-Herren.php
END:VEVENT
END:VCALENDAR