BEGIN:VCALENDAR
METHOD:PUBLISH
PRODID:-//Weblication CMS
VERSION:2.0
BEGIN:VEVENT
SUMMARY:BMW Golf Cup - Autohaus Reisacher --- ABGESAGT
DTSTART;VALUE=DATE:20200620
DTEND;VALUE=DATE:20200621
DESCRIPTION:
LOCATION:Klingenburg
UID:https://golf-klingenburg.de/golf-club-klingenburg/veranstaltungen/termine/BMW-Golf-Cup-Autohaus-Reisacher.php
URL:https://golf-klingenburg.de/golf-club-klingenburg/veranstaltungen/termine/BMW-Golf-Cup-Autohaus-Reisacher.php
END:VEVENT
END:VCALENDAR