BEGIN:VCALENDAR
METHOD:PUBLISH
PRODID:-//Weblication CMS
VERSION:2.0
BEGIN:VEVENT
SUMMARY:Angolfen 2.0
DTSTART:20200628T100000
DTEND:20200629T000000
DESCRIPTION:
LOCATION:Klingenburg
UID:https://golf-klingenburg.de/golf-club-klingenburg/veranstaltungen/termine/Angolfen-2-0.php
URL:https://golf-klingenburg.de/golf-club-klingenburg/veranstaltungen/termine/Angolfen-2-0.php
END:VEVENT
END:VCALENDAR