BEGIN:VCALENDAR
METHOD:PUBLISH
PRODID:-//Weblication CMS
VERSION:2.0
BEGIN:VEVENT
SUMMARY:1. Golf Cup Baustoffmarkt Gersthofen --- ABGESAGT
DTSTART;VALUE=DATE:20200801
DTEND;VALUE=DATE:20200802
DESCRIPTION:
LOCATION:Klingenburg
UID:https://golf-klingenburg.de/golf-club-klingenburg/veranstaltungen/termine/1-Golf-Cup-Baustoffmarkt-Gersthofen.php
URL:https://golf-klingenburg.de/golf-club-klingenburg/veranstaltungen/termine/1-Golf-Cup-Baustoffmarkt-Gersthofen.php
END:VEVENT
END:VCALENDAR