BEGIN:VCALENDAR
METHOD:PUBLISH
PRODID:-//Weblication CMS
VERSION:2.0
BEGIN:VEVENT
SUMMARY:Jubiläumsturnier
DTSTART;VALUE=DATE:20200627
DTEND;VALUE=DATE:20200628
DESCRIPTION:
LOCATION:Klingenburg
UID:https://golf-klingenburg.de/en/veranstaltungen/termine/Jubilaeumsturnier.php
URL:https://golf-klingenburg.de/en/veranstaltungen/termine/Jubilaeumsturnier.php
END:VEVENT
END:VCALENDAR